BEGIN:VCALENDAR
VERSION:2.0
PRODID:-//Bob Collymore Foundation - ECPv6.9.0//NONSGML v1.0//EN
CALSCALE:GREGORIAN
METHOD:PUBLISH
X-ORIGINAL-URL:https://bcfoundation.co.ke
X-WR-CALDESC:Events for Bob Collymore Foundation
REFRESH-INTERVAL;VALUE=DURATION:PT1H
X-Robots-Tag:noindex
X-PUBLISHED-TTL:PT1H
BEGIN:VTIMEZONE
TZID:Africa/Nairobi
BEGIN:STANDARD
TZOFFSETFROM:+0300
TZOFFSETTO:+0300
TZNAME:EAT
DTSTART:20240101T000000
END:STANDARD
END:VTIMEZONE
BEGIN:VEVENT
DTSTART;VALUE=DATE:20241026
DTEND;VALUE=DATE:20241112
DTSTAMP:20260424T155701
CREATED:20241010T073055Z
LAST-MODIFIED:20241023T051659Z
UID:1646-1729900800-1731369599@bcfoundation.co.ke
SUMMARY:BC International Jazz Festival 2025' Auditions
DESCRIPTION:For the upcoming February 2025 show\, we are planning an even bigger stage!\nWe have now officially opened our auditions process.\nIf you are a Kenyan jazz artist\, your journey to be part of this phenomenal event starts once you register HERE.\nFill out the form and more information will be shared via email – including details of when and where auditions will take place. \nThe competition is usually stiff so here’s a few tips for the day:\n\nRehearse\, rehearse and rehearse.\nDress sharp.\nArrive on time!\nCome ready to have a fun time but also impress the judges.\n\nRegistration Deadline\n26th October 2024\, 5PM EAT\nAudition Date\n2nd November 2024\n 
URL:https://bcfoundation.co.ke/event/bc-international-jazz-festival-2025-auditions/
CATEGORIES:Festivals
ATTACH;FMTTYPE=image/jpeg:https://bcfoundation.co.ke/wp-content/uploads/2024/10/BC-Jazz-Auditions.jpg
END:VEVENT
BEGIN:VEVENT
DTSTART;TZID=Africa/Nairobi:20250215T100000
DTEND;TZID=Africa/Nairobi:20250215T163000
DTSTAMP:20260424T155701
CREATED:20250121T143132Z
LAST-MODIFIED:20250214T131343Z
UID:1677-1739613600-1739637000@bcfoundation.co.ke
SUMMARY:Bob Collymore Foundation Jazz Festival 2025
DESCRIPTION:BUY TICKETS \nBC Jazz Festival is back\, bigger and bolder! Get ready for an extraordinary day of smooth melodies\, thrilling solos\, and world-class performances. From East Africa’s finest to an international sensation\, this is the sound you’ve been waiting for. \nEvery one of our events is curated to expand access to our emerging jazz ecosystem. We also aim to engage globally recognised artistes to encourage the continued growth of our creative sector. -Wambui Collymore\, Festival Director\, BCIJF \nThe Bob Collymore Foundation (BCF) has announced an exciting lineup ahead of the second event in the BC International Jazz Festival Series (BCIJF).\nSet to take place on 15th February 2025\, East Africa’s largest Jazz Festival will celebrate Africa’s growing jazz ecosystem\, featuring an unprecedented lineup of artistes.
URL:https://bcfoundation.co.ke/event/bcf-jazz-festival-2025/
LOCATION:Carnivore Grounds
CATEGORIES:Festivals
ATTACH;FMTTYPE=image/jpeg:https://bcfoundation.co.ke/wp-content/uploads/2025/02/slide1a.jpg
END:VEVENT
BEGIN:VEVENT
DTSTART;VALUE=DATE:20251001
DTEND;VALUE=DATE:20251003
DTSTAMP:20260424T155701
CREATED:20250901T060622Z
LAST-MODIFIED:20250901T085226Z
UID:1552-1759276800-1759449599@bcfoundation.co.ke
SUMMARY:Jazz at Lincoln Center Orchestra with Wynton Marsalis
DESCRIPTION:Jazz at Lincoln Center Orchestra with Wynton Marsalis Set to Dazzle at BC International Jazz Festival\nAfrica tour marks first multi-country visit to the continent for award-winning ensemble  \nNAIROBI\, KENYA – 22nd August 2025: \nThe Bob Collymore Foundation (BCF) announces the inaugural BC Jazz Lounge\, which is part of the BC International Jazz Festival Series (BCIJF) series. The Lounge will feature the Jazz at Lincoln Center Orchestra with Wynton Marsalis. \nGrammy and Pulitzer Prize-winning trumpeter and composer Wynton Marsalis\, music director of the Jazz at Lincoln Center Orchestra\, is set to headline two curated events in Nairobi on 1st and 2nd October 2025. The Orchestra will also lead an education day for emerging artists and students\, including a master class for local Jazz artists as well as a selection of students from Ghetto Classics and other schools in Nairobi. \nNairobi is one of the key stops for the inaugural multi-country Africa tour by the Jazz at Lincoln Center Orchestra with Wynton Marsalis\, which comprises of an ensemble of 15 virtuoso instrumentalists\, unique soloists\, composers\, arrangers\, and educators whose mandate is to coalesce and animate an unprecedented variety of styles and genres. \nMr. Marsalis\, who is a world-renowned trumpeter\, bandleader\, and composer\, currently serves as Managing and Artistic Director of Jazz at Lincoln Center\, the Director of Jazz Studies at The Juilliard School\, and President of the Louis Armstrong Educational Foundation. Since his recording debut in 1982\, he has released 127 jazz\, classical and alternative recordings and won several awards. \nWe are incredibly honoured to be able to host the Orchestra as they take on their first multi-country Africa tour. The Tour indicates that our Festival has achieved yet another milestone in its quest to become an integral part of Africa’s growing jazz ecosystem. – Wambui Collymore\, Festival Director\, BCIJF.  \nBCIJF will host two shows at the Tamarind Gardens on 1st October and 2nd October respectively. The show on 1st October will be a VIP show\, while the 2nd October show will be a general event following a special performance for schools. \nOn this tour\, the Jazz at Lincoln Center Orchestra with Wynton Marsalis also includes special guests: drummer Herlin Riley\, percussionist Weedie Braimah\, and vocalist Shenel Johns. They will perform Marsalis’s new work\, Afro!\, which will premiere right before their tour to Africa. Afro! will build on Marsalis’ previous opuses as Blood on the Fields (1996)\, Congo Square (2007)\, Ochas (2014)\, the fresh big band arrangements comprising JALCO’s The South African Songbook concert (2019) as well as Kenya\, a song launched in 2023. \n“The JLCO’s first tour of Africa is deeply profound\,” JALC’s Managing and Artistic Director Wynton Marsalis says. “In the globally influential music and dance concepts of Africa\, we can perceive how to find harmony and balance with nature\, how to perceive and interact with the supernatural\, and how to create endless variations on fundamental themes in pursuit of a good time.” \nTickets are live as of today on mookh.com. \nEvent Details  \nVenue: Mitsumi Gardens\, next to Carnivore Grounds:  \n\n1st October: Dinner and Show – Tickets: Ksh 12\,500\n2nd October: Fan Show \n\n○ Adult Ticket: Ksh 3\,500 (increases to Ksh 4\,000 from 1stSeptember) \n\n2nd October: Education Day (school show for select schools and artistes). For an invitation for a school group\, please email bcinternationaljazzfestival@gmail.com\n\nTickets available here. \nFor more information\, please contact\nKui Kinyanjui\, Communications Lead\,\nBob Collymore Foundation at kuikinyanjui@gmail.com
URL:https://bcfoundation.co.ke/event/jazz-lincoln-center-orchestra-with-wynton-marsalis/
CATEGORIES:Festivals
ATTACH;FMTTYPE=image/jpeg:https://bcfoundation.co.ke/wp-content/uploads/2025/10/Subsection-of-the-band_playing-as-small-group_credit-Luigi-Beverelli.jpg
END:VEVENT
END:VCALENDAR