BEGIN:VCALENDAR
VERSION:2.0
PRODID:-//Bob Collymore Foundation - ECPv6.9.0//NONSGML v1.0//EN
CALSCALE:GREGORIAN
METHOD:PUBLISH
X-WR-CALNAME:Bob Collymore Foundation
X-ORIGINAL-URL:https://bcfoundation.co.ke
X-WR-CALDESC:Events for Bob Collymore Foundation
REFRESH-INTERVAL;VALUE=DURATION:PT1H
X-Robots-Tag:noindex
X-PUBLISHED-TTL:PT1H
BEGIN:VTIMEZONE
TZID:Africa/Nairobi
BEGIN:STANDARD
TZOFFSETFROM:+0300
TZOFFSETTO:+0300
TZNAME:EAT
DTSTART:20220101T000000
END:STANDARD
TZID:UTC
BEGIN:STANDARD
TZOFFSETFROM:+0000
TZOFFSETTO:+0000
TZNAME:UTC
DTSTART:20200101T000000
END:STANDARD
END:VTIMEZONE
BEGIN:VEVENT
DTSTART;TZID=Africa/Nairobi:20230923T000000
DTEND;TZID=Africa/Nairobi:20230923T170000
DTSTAMP:20260425T151428
CREATED:20230823T061621Z
LAST-MODIFIED:20230913T073633Z
UID:1539-1695427200-1695488400@bcfoundation.co.ke
SUMMARY:BC International Jazz Festival Auditions
DESCRIPTION:For February 2024\, we are planning a bigger stage! We invite you to be part of this event and are looking forward to receiving your registration. Once you register HERE\, more information will be sent to you via email with details of when and where to show up to show off what you can do! \nThe competition is usually stiff so here’s a few tips for the day:\n\nRehearse\, rehearse and rehearse.\nDress sharp.\nArrive on time!\nCome ready to have a fun time but also impress the judges.\n\n \nSee you soon!\n 
URL:https://bcfoundation.co.ke/event/bc-international-jazz-festival-auditions/
ATTACH;FMTTYPE=image/png:https://bcfoundation.co.ke/wp-content/uploads/2023/08/bcaudition.png
END:VEVENT
BEGIN:VEVENT
DTSTART;TZID=UTC:20230701T000000
DTEND;TZID=UTC:20230701T235900
DTSTAMP:20260425T151428
CREATED:20230602T074832Z
LAST-MODIFIED:20230824T060912Z
UID:144-1688169600-1688255940@bcfoundation.co.ke
SUMMARY:BC International Jazz Festival 2023
DESCRIPTION:JAZZ TAKEOVER \nThe BC International Jazz Festival (BCIJF) is a festival series that promises to become Kenya’s most influential jazz experience. Jazz has been part of the Kenyan fabric since the 1960s. In the 2010s\, it rose to prominence as a direct result of Bob Collymore’s interest in the genre through the immensely popular Safaricom International Jazz Festival. Today\, jazz has evolved the Kenyan music soul. \nBob strongly believed in the power of music as a tool to unite people from different backgrounds. He thought music could act as a catalyst to democratise the arts and erase socioeconomic barriers. This is why the BCIJF is keen to carry on his legacy – to build bridges and make live music accessible to more people. Each jazz festival is more than a one-off event. It is a continuous quest to broaden the unifying influence of music for Kenyan society. \nOur plans for a grand concert to be held in February 2024 include hosting international artistes from the USA\, Belgium\, Germany\, our neighbours here in Africa and more. We will also offer cross-cultural exchange through Master Classes. Every series year\, the Festival will select a deserving project which will receive part proceeds from the ticket sales. Our beneficiary for 2023/2024\, is Ghetto Classics. \nGHETTO CLASSICS\n Ghetto Classics is the flagship programme of the Art of Music Foundation. The programme is the result of its Founder\, Elizabeth Njoroge’s vision for classical music’s ability to change the lives of children in some of the poorest communities in Nairobi. Started in 2007\, the community programme involves over 500 children in Korogocho – where about 300\,000 urban\, low income households exist. \nThe program also works with over 1000 more children in nine satellite areas around Nairobi\, one in Kiambu and four in Mombasa. Through such partnerships\, the Festival will continue to uplift and empower communities across Kenya. \nTickets for the July 1st 2023 inaugural BC International Jazz Festival can be found here: https://mookh.com/event/the-bc-international-jazz-festival \n 
URL:https://bcfoundation.co.ke/event/bc-international-jazz-festival-2023/
LOCATION:Carnivore Grounds
CATEGORIES:Festivals
ATTACH;FMTTYPE=image/jpeg:https://bcfoundation.co.ke/wp-content/uploads/2023/06/Website-Banner-1920-x-1080-pix2.jpg
END:VEVENT
BEGIN:VEVENT
DTSTART;TZID=UTC:20221210T170000
DTEND;TZID=UTC:20221210T220000
DTSTAMP:20260425T151428
CREATED:20230610T075353Z
LAST-MODIFIED:20230913T073928Z
UID:145-1670691600-1670709600@bcfoundation.co.ke
SUMMARY:BCF Business Connect
DESCRIPTION:In partnership with the Capital Club East Africa\, the Nairobi Stock Exchange and Kestrel Capital\nBob Collymore was passionate about was small businesses. He was particularly interested in how startups could be the future of sustainable business and lead the way is using business for good. \nThe Business Connect Series offers small innovative businesses the opportunity to learn and network with key players and industry leaders. These conversations give small businesses some of the tools they need to build on their success. \nAt this first event\, we invited The Nairobi Stock Exchange to discuss their latest product to onboard\nsmall to medium business as a way to seek capital from possible investors. The IBUKA program is tailored to the needs of small/medium size companies and is an incubator platform that helps businesses work toward listing on the Nairobi Stock Exchange.
URL:https://bcfoundation.co.ke/event/bcf-business-connect/
LOCATION:Capital Club East Africa
ATTACH;FMTTYPE=image/jpeg:https://bcfoundation.co.ke/wp-content/uploads/2023/06/bcf-94.jpg
END:VEVENT
BEGIN:VEVENT
DTSTART;VALUE=DATE:20220520
DTEND;VALUE=DATE:20220521
DTSTAMP:20260425T151428
CREATED:20230619T210911Z
LAST-MODIFIED:20230824T060314Z
UID:1256-1653004800-1653091199@bcfoundation.co.ke
SUMMARY:THE BODAPRENEUR PROGRAM
DESCRIPTION:The Bob Collymore Foundation together with InkedBikers and Radio Africa Group provided a one day training workshop for boda- boda riders. This motorcycle safety training program was complemented with basic business skills to professionalise commercial motorcycle riding. \n“Boda Yangu\, Ofisi Yangu\,” provided three modules: \nMENTAL SKILLS OF RIDING  – A video tutorial and a Q&A session to test the rider’s situation awareness\, hazard perception\, understanding of traffic and road rules amongst others. \nBASIC CUSTOMER CARE SKILLS – A short training session on how to best maximise customers satisfaction with business. \nMOTORCYCLE SKILLS HANDLING AND TESTS – A practical session to assess the riders’ skills on the motorcycle and to address the challenges by providing some training then and in the future. \nThe workshop culminated in a skills test with the 1st Prize Award being a brand new motorcycle to enable the winner to start or expand their business. Chris Kobia was the winner of this brand new motorcycle. He plans to start a business now that he owns his bike and is no longer solely employed as a rider. \nAdditionally\, the workshop empowered riders who can then in turn educate others on basic motorcycle safety and customer service. The riders from this workshop are connected via WhatsApp and can now work as a community. \nThis program was in partnership with Radio Africa Group\, InkedBikers and CapitalFM. 
URL:https://bcfoundation.co.ke/event/the-bodapreneur-program/
LOCATION:Marist Center\, Karen
ATTACH;FMTTYPE=image/jpeg:https://bcfoundation.co.ke/wp-content/uploads/2016/07/WhatsApp-Image-2022-03-19-at-7.18.36-PM-1-e1686724991856.jpeg
END:VEVENT
BEGIN:VEVENT
DTSTART;TZID=UTC:20200701T183000
DTEND;TZID=UTC:20200701T233000
DTSTAMP:20260425T151428
CREATED:20200701T075449Z
LAST-MODIFIED:20230824T060325Z
UID:147-1593628200-1593646200@bcfoundation.co.ke
SUMMARY:Bob Collymore Online Memorial International Jazz Festival
DESCRIPTION:A special online memorial and tribute done during Covid19.\nThis technology enabled celebration saw performances by among others\, Jonathan Butler (USA)\, Maya (Israel)\, Jef Neve (Belgium) – with a special composition for Bob. There were also tributes by people who knew Bob personally and kind words from Richard Branson\, Mo Ibrahim\, Michael Joseph and Juliani. The memorial ended with a recorded saxophone session of Bob performing “Ain’t No Sunshine” by Bill Withers. \n \n  \n 
URL:https://bcfoundation.co.ke/event/bob-collymore-online-memorial-international-jazz-festival/
LOCATION:Online\, Youtube
CATEGORIES:Festivals,Online Event
ATTACH;FMTTYPE=image/png:https://bcfoundation.co.ke/wp-content/uploads/2020/07/Screenshot-2023-06-20-at-00.16.36.png
END:VEVENT
END:VCALENDAR